BEGIN:VCALENDAR
VERSION:2.0
PRODID:-//comcatmedfund.org//NONSGML kigkonsult.se iCalcreator 2.30.10//
CALSCALE:GREGORIAN
METHOD:PUBLISH
UID:832fb4b0-acda-4aac-8b79-accdbe5b419b
X-WR-CALDESC:COME CELEBRATE OUR ONE YEAR ANNIVERSARY AND FUNDRAISER AT THE 
 CACTUS GRILL. GET YOUR TICKETS TODAY! FOOD\, DRINKS\, RAFFLES AND SILENT A
 UCTIONS TOO! HOPE TO SEE YOU THERE!
X-WR-RELCALID:728343bf8e67e0aa778e5f561a9e0719
X-WR-TIMEZONE:America/New_York
BEGIN:VTIMEZONE
TZID:America/New_York
BEGIN:STANDARD
TZNAME:EST
DTSTART:20211107T020000
TZOFFSETFROM:-0400
TZOFFSETTO:-0500
RDATE:20221106T020000
RDATE:20231105T020000
END:STANDARD
BEGIN:DAYLIGHT
TZNAME:EDT
DTSTART:20220313T020000
TZOFFSETFROM:-0500
TZOFFSETTO:-0400
RDATE:20230312T020000
END:DAYLIGHT
END:VTIMEZONE
BEGIN:VEVENT
UID:0b015182-a378-4963-8d8e-9665502c6b93
DTSTAMP:20260421T193255Z
DESCRIPTION:COME CELEBRATE OUR ONE YEAR ANNIVERSARY AND FUNDRAISER AT THE C
 ACTUS GRILL. GET YOUR TICKETS TODAY! FOOD\, DRINKS\, RAFFLES AND SILENT AU
 CTIONS TOO! HOPE TO SEE YOU THERE!
DTSTART;TZID=America/New_York:20220526T180000
DTEND;TZID=America/New_York:20220526T200000
LOCATION:https://l.facebook.com/l.php?u=https%3A%2F%2Fcatsatthecactus.event
 brite.com%2F%3Ffbclid%3DIwAR0j3yK3uLGxNHiPJOQzn3uSl-iLyx9PyTvx-q61_gQNi7PB
 KLZZWh8p_I8&h=AT0l38YX9TYTiVnTiz3jeQZzjQrnc9o-2_lnjB4bJNNPL-ZbbK1L0doCAoEQ
 N9gBLSGA9ZHTGzHm-Rp2Ivm1OaGVdQMf5LKVdPxfEyZ3auuHKny0qs0rCY75VsOMJ_K2ho8huu
 uuAL_Fd8GHxlt4Sw
SUMMARY:Cats at the cactus!
END:VEVENT
END:VCALENDAR
